BEGIN:VCALENDAR
VERSION:2.0
PRODID:icalendar-ruby
CALSCALE:GREGORIAN
METHOD:PUBLISH
BEGIN:VEVENT
DTSTAMP:20260424T164022Z
UID:9-465744@fbcpharr.org
DTSTART:20260813T013000Z
DTEND:20260813T030000Z
CLASS:PUBLIC
CREATED:20260424T084101
DESCRIPTION:Fellowship meal begins at 6:30pm in the fellowship hall. Bible 
 studies take place from 7-8pm. We have studies in English &amp\; Spanish f
 or children\, youth\, and adults.
LAST-MODIFIED:20260424T084101
LOCATION:Fellowship Hall | 400 W Ridge Rd\, Pharr\, TX
SUMMARY:Wednesday Night Fellowship & Studies
URL;VALUE=URI:https://fbcpharr.org/events/wednesday-night-fellowship-studie
 s/2026-08-12
ATTACH;FILENAME=Copy-of-First-Baptist-Church-Pharr.png;FMTTYPE=image/png:ht
 tps://dq5pwpg1q8ru0.cloudfront.net/2025/11/19/19/05/56/72386560-5c19-45ca-
 b9ac-96c0a0e0ca16/Copy-of-First-Baptist-Church-Pharr.png
END:VEVENT
END:VCALENDAR
